BEGIN:VCALENDAR
VERSION:2.0
PRODID:-//Missouri Sedimentation Action Coalition - ECPv5.1.5//NONSGML v1.0//EN
CALSCALE:GREGORIAN
METHOD:PUBLISH
X-WR-CALNAME:Missouri Sedimentation Action Coalition
X-ORIGINAL-URL:http://www.msaconline.com
X-WR-CALDESC:Events for Missouri Sedimentation Action Coalition
BEGIN:VTIMEZONE
TZID:UTC
BEGIN:STANDARD
TZOFFSETFROM:+0000
TZOFFSETTO:+0000
TZNAME:UTC
DTSTART:20140101T000000
END:STANDARD
END:VTIMEZONE
BEGIN:VEVENT
DTSTART;TZID=UTC:20140615T120000
DTEND;TZID=UTC:20140615T133000
DTSTAMP:20260420T154201
CREATED:20150506T092946Z
LAST-MODIFIED:20150506T092946Z
UID:596-1402833600-1402839000@www.msaconline.com
SUMMARY:Board Meeting
DESCRIPTION:		I have traced the Rebel spies to her. Now she is my only link to finding their secret base. What?! I care. So\, what do you think of her\, Han? The Force is strong with this one. I have you now. But with the blast shield down\, I can’t even see! How am I supposed to fight? Red Five standing by.		 \n
URL:http://www.msaconline.com/event/board-meeting/
CATEGORIES:Meeting
END:VEVENT
END:VCALENDAR